BEGIN:VCALENDAR
VERSION:2.0
PRODID:icalendar-ruby
CALSCALE:GREGORIAN
METHOD:PUBLISH
BEGIN:VEVENT
DTSTAMP:20260422T095324Z
UID:152-821502@christchurchanglican.ca
DTSTART:20261013T133000Z
DTEND:20261013T143000Z
CLASS:PUBLIC
CREATED:20260421T203447
DESCRIPTION:
LAST-MODIFIED:20260421T203447
LOCATION:Memorial Hall
SUMMARY:Exercise Class
URL;VALUE=URI:https://christchurchanglican.ca/events/exercise-class--152/20
 26-10-13
END:VEVENT
END:VCALENDAR
