BEGIN:VCALENDAR
VERSION:2.0
PRODID:icalendar-ruby
CALSCALE:GREGORIAN
METHOD:PUBLISH
BEGIN:VEVENT
DTSTAMP:20260422T110714Z
UID:152-821503@christchurchanglican.ca
DTSTART:20261020T133000Z
DTEND:20261020T143000Z
CLASS:PUBLIC
CREATED:20260421T203447
DESCRIPTION:
LAST-MODIFIED:20260421T203447
LOCATION:Memorial Hall
SUMMARY:Exercise Class
URL;VALUE=URI:https://christchurchanglican.ca/events/exercise-class--152/20
 26-10-20
END:VEVENT
END:VCALENDAR
