BEGIN:VCALENDAR
VERSION:2.0
PRODID:icalendar-ruby
CALSCALE:GREGORIAN
METHOD:PUBLISH
BEGIN:VEVENT
DTSTAMP:20260422T135142Z
UID:152-822063@christchurchanglican.ca
DTSTART:20261103T143000Z
DTEND:20261103T153000Z
CLASS:PUBLIC
CREATED:20260422T073712
DESCRIPTION:
LAST-MODIFIED:20260422T073712
LOCATION:Memorial Hall
SUMMARY:Exercise Class
URL;VALUE=URI:https://christchurchanglican.ca/events/exercise-class--152/20
 26-11-03
END:VEVENT
END:VCALENDAR
